BEGIN:VCALENDAR
VERSION:2.0
PRODID:-//JSD Sintra - ECPv6.0.13.1//NONSGML v1.0//EN
CALSCALE:GREGORIAN
METHOD:PUBLISH
X-ORIGINAL-URL:https://jsdsintra.pt
X-WR-CALDESC:Events for JSD Sintra
REFRESH-INTERVAL;VALUE=DURATION:PT1H
X-Robots-Tag:noindex
X-PUBLISHED-TTL:PT1H
BEGIN:VTIMEZONE
TZID:UTC
BEGIN:STANDARD
TZOFFSETFROM:+0000
TZOFFSETTO:+0000
TZNAME:UTC
DTSTART:20180101T000000
END:STANDARD
END:VTIMEZONE
BEGIN:VEVENT
DTSTART;TZID=UTC:20180623T100000
DTEND;TZID=UTC:20180623T190000
DTSTAMP:20260421T133808
CREATED:20180619T190845Z
LAST-MODIFIED:20180619T192341Z
UID:24837-1529748000-1529780400@jsdsintra.pt
SUMMARY:4º Congresso Distrital de Lisboa da JSD
DESCRIPTION:No dia 23 de Junho\, irá realizar-se o 4º Congresso Distrital de Lisboa da JSD. Este congresso terá lugar na Casa da Cultura Lívio de Morais – Mira Sintra – pelas 10h. \nContamos com a tua presença!
URL:https://jsdsintra.pt/evento/iv-congresso-distrital-de-lisboa-da-jsd/
CATEGORIES:JSD Distrital Lisboa
ATTACH;FMTTYPE=image/jpeg:https://jsdsintra.pt/wp-content/uploads/2018/06/35542691_1907582872626303_2271273642081910784_o.jpg
END:VEVENT
END:VCALENDAR